BEGIN:VCALENDAR
VERSION:2.0
PRODID:spatie/icalendar-generator
DESCRIPTION:Events from Crediton Parish Church
X-WR-CALDESC:Events from Crediton Parish Church
REFRESH-INTERVAL;VALUE=DURATION:PT1440M
X-PUBLISHED-TTL:PT1440M
BEGIN:VTIMEZONE
TZID:Etc/GMT+0
BEGIN:STANDARD
DTSTART:20250701T100000Z
TZOFFSETFROM:+0000
TZOFFSETTO:+0000
END:STANDARD
END:VTIMEZONE
BEGIN:VTIMEZONE
TZID:UTC
BEGIN:STANDARD
DTSTART:20250723T130800Z
TZOFFSETFROM:+0000
TZOFFSETTO:+0000
END:STANDARD
END:VTIMEZONE
BEGIN:VEVENT
UID:24-13
DTSTAMP:20260419T130800Z
SUMMARY:Craft Fair
LOCATION:Boniface Centre
ORGANIZER;CN=Gill:MAILTO:admin@creditonparishchurch.org.uk
DTSTART;TZID=Etc/GMT+0:20260328T100000
DTEND;TZID=Etc/GMT+0:20260328T130000
X-ALT-DESC;FMTTYPE=TEXT/HTML:Come and support over 20 local crafters sellin
 g a wide variety of items. Refreshments available throughout.
CATEGORIES:General
URL;VALUE=URI:https://www.creditonparishchurch.org.uk/mc-events/craft-fair/
METHOD:PUBLISH
END:VEVENT
END:VCALENDAR