BEGIN:VCALENDAR
VERSION:2.0
PRODID:spatie/icalendar-generator
DESCRIPTION:Events from Crediton Parish Church
X-WR-CALDESC:Events from Crediton Parish Church
REFRESH-INTERVAL;VALUE=DURATION:PT1440M
X-PUBLISHED-TTL:PT1440M
BEGIN:VTIMEZONE
TZID:Etc/GMT+0
BEGIN:STANDARD
DTSTART:20250524T103000Z
TZOFFSETFROM:+0000
TZOFFSETTO:+0000
END:STANDARD
END:VTIMEZONE
BEGIN:VTIMEZONE
TZID:UTC
BEGIN:STANDARD
DTSTART:20250724T164357Z
TZOFFSETFROM:+0000
TZOFFSETTO:+0000
END:STANDARD
END:VTIMEZONE
BEGIN:VEVENT
UID:6-6
DTSTAMP:20260420T164357Z
SUMMARY:Ash Wednesday
LOCATION:Crediton Parish Church
ORGANIZER;CN=Gill:MAILTO:admin@creditonparishchurch.org.uk
DTSTART;TZID=Etc/GMT+0:20260218T103000
DTEND;TZID=Etc/GMT+0:20260218T113000
X-ALT-DESC;FMTTYPE=TEXT/HTML:A Holy Communion service with imposition of as
 hes in the Lady Chapel.
CATEGORIES:General
URL;VALUE=URI:https://www.creditonparishchurch.org.uk/mc-events/ash-wednesd
 ay/
METHOD:PUBLISH
END:VEVENT
END:VCALENDAR