BEGIN:VCALENDAR
VERSION:2.0
PRODID:spatie/icalendar-generator
DESCRIPTION:Events from Crediton Parish Church
X-WR-CALDESC:Events from Crediton Parish Church
REFRESH-INTERVAL;VALUE=DURATION:PT1440M
X-PUBLISHED-TTL:PT1440M
BEGIN:VTIMEZONE
TZID:Etc/GMT+0
BEGIN:STANDARD
DTSTART:20250527T190000Z
TZOFFSETFROM:+0000
TZOFFSETTO:+0000
END:STANDARD
END:VTIMEZONE
BEGIN:VTIMEZONE
TZID:UTC
BEGIN:STANDARD
DTSTART:20250726T090546Z
TZOFFSETFROM:+0000
TZOFFSETTO:+0000
END:STANDARD
END:VTIMEZONE
BEGIN:VEVENT
UID:9-9
DTSTAMP:20260422T090546Z
SUMMARY:Music and Passion
LOCATION:Crediton Parish Church
ORGANIZER;CN=Gill:MAILTO:admin@creditonparishchurch.org.uk
DTSTART;TZID=Etc/GMT+0:20260221T190000
DTEND;TZID=Etc/GMT+0:20260221T200000
X-ALT-DESC;FMTTYPE=TEXT/HTML:This short concert will include music from Ad 
 Hoc and the Miroir de Peine song cycle by Hendrik Anderson. Entrance is fr
 ee with donations to the church choir.
CATEGORIES:General
URL;VALUE=URI:https://www.creditonparishchurch.org.uk/mc-events/music-and-p
 assion/
METHOD:PUBLISH
END:VEVENT
END:VCALENDAR